BEGIN:VCALENDAR
VERSION:2.0
PRODID:-//wp-events-plugin.com//7.2.3.1//EN
BEGIN:VEVENT
UID:88@club-transfo-num.fr
DTSTART:20231009T183000Z
DTEND:20231009T213000Z
DTSTAMP:20231021T170726Z
URL:https://club-transfo-num.fr/events/generative-ai-et-llm-les-premiers-c
 as-dutilisation-retex-et-convictions-rencontres-mensuelles-du-club/
SUMMARY:Generative AI et LLM : les premiers cas d'utilisation / RETEX et co
 nvictions - Rencontres mensuelles du Club
DESCRIPTION:La soirée sera animée par Pierre-Emmanuel Removille et Johan 
 Jublanc de la startup LittleBigCode\n\n\n\n\n\nL'intelligence artificielle
  (IA) a un large éventail de cas d'utilisation intéressants et a eu un i
 mpact significatif dans de nombreux domaines.\n\nVoici quelques-uns des pr
 emiers cas d'utilisation qui ont attiré l'attention et qui continuent d'
 évoluer :\n\n 	Reconnaissance d'images et de vidéos : L'IA peut analyser
  des images et des vidéos pour reconnaître des objets\, des visages\, de
 s gestes\, etc. Cela a des applications dans la sécurité\, la surveillan
 ce\, la médecine (diagnostic d'imagerie médicale)\, et la réalité augm
 entée.\n 	Traitement du langage naturel (NLP) : L'IA peut comprendre et g
 énérer du langage humain\, ce qui est utilisé dans les chatbots\, la tr
 aduction automatique\, la recherche d'informations\, l'analyse des sentime
 nts\, et la rédaction automatique.\n 	Systèmes de recommandation : L'IA 
 est largement utilisée dans les systèmes de recommandation\, notamment s
 ur des plateformes comme Netflix\, Amazon et Spotify pour suggérer des pr
 oduits\, des films\, de la musique\, etc.\, en fonction des préférences 
 des utilisateurs.\n 	Médecine et diagnostic médical : L'IA peut aider le
 s médecins dans le diagnostic en analysant des données médicales\, des 
 images médicales\, et en identifiant des schémas qui seraient difficiles
  à repérer par un être humain.\n 	Véhicules autonomes : L'IA alimente 
 les voitures autonomes en permettant la détection d'obstacles\, la prise 
 de décision en temps réel\, et la navigation.\n 	Finances et trading : L
 'IA est utilisée dans la prédiction des tendances financières\, l'analy
 se des risques\, et le trading haute fréquence.\n 	Industrie manufacturi
 ère : L'automatisation basée sur l'IA est utilisée pour la maintenance 
 prédictive\, la qualité de production\, et l'optimisation des processus 
 de fabrication.\n 	Assistance à la clientèle : Les chatbots et les agent
 s virtuels basés sur l'IA sont de plus en plus utilisés pour répondre a
 ux questions des clients et résoudre des problèmes.\n 	Gestion de la cha
 îne d'approvisionnement : L'IA aide à optimiser la gestion des stocks\, 
 la planification de la production\, et la logistique.\n 	Sécurité inform
 atique : L'IA est utilisée pour détecter et prévenir les menaces de sé
 curité en temps réel\, notamment les attaques de logiciels malveillants 
 et les tentatives d'intrusion.\n 	Recherche scientifique : L'IA aide les s
 cientifiques à analyser des données complexes\, à modéliser des phéno
 mènes naturels\, et à découvrir de nouveaux médicaments.\n 	Agricultur
 e de précision : L'IA est utilisée pour surveiller et gérer les culture
 s de manière plus efficace\, en optimisant l'utilisation de l'eau\, des e
 ngrais\, et des pesticides.\n 	Énergie et environnement : L'IA est utilis
 ée pour optimiser la distribution d'énergie\, prédire la demande énerg
 étique\, et surveiller l'impact environnemental.\n 	Éducation : L'IA est
  utilisée pour personnaliser l'apprentissage\, créer des contenus éduca
 tifs adaptatifs\, et aider les enseignants dans l'évaluation des élèves
 .\n 	Divertissement : L'IA est utilisée dans la création de jeux vidéo\
 , la génération de contenu multimédia\, et l'amélioration des effets s
 péciaux dans l'industrie du cinéma.\n\nCes cas d'utilisation représente
 nt une petite partie de l'impact de l'IA sur divers domaines\, et de nouve
 lles applications continuent d'émerger à mesure que la technologie progr
 esse.
ATTACH;FMTTYPE=image/jpeg:https://club-transfo-num.fr/wp-content/uploads/2
 023/09/20231001-artificial-inteligence.jpeg
CATEGORIES:Dîner/débat
LOCATION:Maison des Polytechniciens\, 12\, rue de Poitiers\, Paris\, 75007\
 , France
X-APPLE-STRUCTURED-LOCATION;VALUE=URI;X-ADDRESS=12\, rue de Poitiers\, Pari
 s\, 75007\, France;X-APPLE-RADIUS=100;X-TITLE=Maison des Polytechniciens:g
 eo:0,0
END:VEVENT
END:VCALENDAR